BEGIN:VCALENDAR
VERSION:2.0
PRODID:-//GMG STAGE - ECPv6.15.17.1//NONSGML v1.0//EN
CALSCALE:GREGORIAN
METHOD:PUBLISH
X-WR-CALNAME:GMG STAGE
X-ORIGINAL-URL:https://glstage.dreamhosters.com
X-WR-CALDESC:Events for GMG STAGE
REFRESH-INTERVAL;VALUE=DURATION:PT1H
X-Robots-Tag:noindex
X-PUBLISHED-TTL:PT1H
BEGIN:VTIMEZONE
TZID:America/Toronto
BEGIN:DAYLIGHT
TZOFFSETFROM:-0500
TZOFFSETTO:-0400
TZNAME:EDT
DTSTART:20240310T070000
END:DAYLIGHT
BEGIN:STANDARD
TZOFFSETFROM:-0400
TZOFFSETTO:-0500
TZNAME:EST
DTSTART:20241103T060000
END:STANDARD
BEGIN:DAYLIGHT
TZOFFSETFROM:-0500
TZOFFSETTO:-0400
TZNAME:EDT
DTSTART:20250309T070000
END:DAYLIGHT
BEGIN:STANDARD
TZOFFSETFROM:-0400
TZOFFSETTO:-0500
TZNAME:EST
DTSTART:20251102T060000
END:STANDARD
BEGIN:DAYLIGHT
TZOFFSETFROM:-0500
TZOFFSETTO:-0400
TZNAME:EDT
DTSTART:20260308T070000
END:DAYLIGHT
BEGIN:STANDARD
TZOFFSETFROM:-0400
TZOFFSETTO:-0500
TZNAME:EST
DTSTART:20261101T060000
END:STANDARD
END:VTIMEZONE
BEGIN:VEVENT
DTSTART;VALUE=DATE:20251103
DTEND;VALUE=DATE:20251104
DTSTAMP:20260420T101245
CREATED:20241223T165228Z
LAST-MODIFIED:20241223T165228Z
UID:10002338-1762128000-1762214399@glstage.dreamhosters.com
SUMMARY:ETFs World
DESCRIPTION:A print and digital special national feature highlighting  how  ETF market continues to expand\,
URL:https://glstage.dreamhosters.com/opportunity/etfs-world-2/
LOCATION:National
CATEGORIES:Business
END:VEVENT
BEGIN:VEVENT
DTSTART;VALUE=DATE:20251031
DTEND;VALUE=DATE:20251101
DTSTAMP:20260420T101245
CREATED:20250430T164522Z
LAST-MODIFIED:20250430T164522Z
UID:10002528-1761868800-1761955199@glstage.dreamhosters.com
SUMMARY:Saskatchewan Advantage
DESCRIPTION:A special feature on Saskatchewan is on the rise — a province where economic momentum is creating a compelling landscape for both capital and philanthropy
URL:https://glstage.dreamhosters.com/opportunity/saskatchewan-advantage-4/
LOCATION:National
CATEGORIES:Business
END:VEVENT
BEGIN:VEVENT
DTSTART;VALUE=DATE:20251031
DTEND;VALUE=DATE:20251101
DTSTAMP:20260420T101245
CREATED:20250210T204211Z
LAST-MODIFIED:20250410T213321Z
UID:10002392-1761868800-1761955199@glstage.dreamhosters.com
SUMMARY:Diabetes Awareness Month & World Diabetes Day
DESCRIPTION:A special feature—produced in conjunction with Diabetes Canada and timed to align with the start of Awareness Month and World Diabetes Day
URL:https://glstage.dreamhosters.com/opportunity/diabetes-awareness-month-world-diabetes-day-4/
LOCATION:National
CATEGORIES:Charity and Philanthropy
END:VEVENT
BEGIN:VEVENT
DTSTART;VALUE=DATE:20251031
DTEND;VALUE=DATE:20251101
DTSTAMP:20260420T101245
CREATED:20250129T212134Z
LAST-MODIFIED:20250129T212134Z
UID:10002384-1761868800-1761955199@glstage.dreamhosters.com
SUMMARY:Construction Trades
DESCRIPTION:A special national feature on construction & trades industry
URL:https://glstage.dreamhosters.com/opportunity/construction-trades-2/
LOCATION:National
CATEGORIES:Business
END:VEVENT
BEGIN:VEVENT
DTSTART;VALUE=DATE:20251031
DTEND;VALUE=DATE:20251101
DTSTAMP:20260420T101245
CREATED:20241203T183443Z
LAST-MODIFIED:20241203T183443Z
UID:10002303-1761868800-1761955199@glstage.dreamhosters.com
SUMMARY:Innovative Insurance Solutions
DESCRIPTION:A special feature will explore how advanced insurance options can enhance outcomes and reduce risks timed ahead of National Insurance Awareness Day \n 
URL:https://glstage.dreamhosters.com/opportunity/innovative-insurance-solutions-3/
LOCATION:National
CATEGORIES:Business
END:VEVENT
BEGIN:VEVENT
DTSTART;VALUE=DATE:20251030
DTEND;VALUE=DATE:20251031
DTSTAMP:20260420T101245
CREATED:20250722T161040Z
LAST-MODIFIED:20250722T161040Z
UID:10002625-1761782400-1761868799@glstage.dreamhosters.com
SUMMARY:International Year of Cooperatives
DESCRIPTION:This special feature will explore how Canada’s co-operative sector is evolving to meet today’s challenges.
URL:https://glstage.dreamhosters.com/opportunity/international-year-of-cooperatives/
LOCATION:National
CATEGORIES:Business
END:VEVENT
BEGIN:VEVENT
DTSTART;VALUE=DATE:20251030
DTEND;VALUE=DATE:20251031
DTSTAMP:20260420T101245
CREATED:20250623T210923Z
LAST-MODIFIED:20250623T210923Z
UID:10002602-1761782400-1761868799@glstage.dreamhosters.com
SUMMARY:Smart\, Sustainable & Strategic Real Estate
DESCRIPTION:This special feature will spotlight the latest trends\, strategies\, and forward-looking projects shaping the commercial and residential markets with green innovation and more
URL:https://glstage.dreamhosters.com/opportunity/smart-sustainable-strategic-real-estate-2/
LOCATION:National
CATEGORIES:Business
END:VEVENT
BEGIN:VEVENT
DTSTART;VALUE=DATE:20251030
DTEND;VALUE=DATE:20251031
DTSTAMP:20260420T101245
CREATED:20250224T211201Z
LAST-MODIFIED:20250224T211201Z
UID:10002428-1761782400-1761868799@glstage.dreamhosters.com
SUMMARY:Tomorrow’s Legal Landscape
DESCRIPTION:A special feature will spotlight the evolving law landscape\, delving into the latest trends\, challenges\, and opportunities.
URL:https://glstage.dreamhosters.com/opportunity/tomorrows-legal-landscape/
LOCATION:National
CATEGORIES:Business,Education
END:VEVENT
BEGIN:VEVENT
DTSTART;VALUE=DATE:20251029
DTEND;VALUE=DATE:20251030
DTSTAMP:20260420T101245
CREATED:20250327T195754Z
LAST-MODIFIED:20250327T195754Z
UID:10002486-1761696000-1761782399@glstage.dreamhosters.com
SUMMARY:ESG & CORPORATE SOCIAL RESPONSIBILITY TRENDS
DESCRIPTION:A special feature will spotlight the latest trends in ESG and CSR\, highlighting how businesses are leading change and fostering positive impacts.
URL:https://glstage.dreamhosters.com/opportunity/esg-corporate-social-responsibility-trends/
LOCATION:National
CATEGORIES:Business,Resources, Utilities and Environment
END:VEVENT
BEGIN:VEVENT
DTSTART;VALUE=DATE:20251029
DTEND;VALUE=DATE:20251030
DTSTAMP:20260420T101245
CREATED:20250304T220835Z
LAST-MODIFIED:20250307T162216Z
UID:10002448-1761696000-1761782399@glstage.dreamhosters.com
SUMMARY:HR Strategies for a Thriving Workforce
DESCRIPTION:A special feature will explore the latest trends\, strategies\, and innovations transforming HR
URL:https://glstage.dreamhosters.com/opportunity/hr-strategies-for-a-thriving-workforce-5/
LOCATION:National
CATEGORIES:Business
END:VEVENT
BEGIN:VEVENT
DTSTART;VALUE=DATE:20251028
DTEND;VALUE=DATE:20251029
DTSTAMP:20260420T101245
CREATED:20250321T210403Z
LAST-MODIFIED:20250321T210403Z
UID:10002477-1761609600-1761695999@glstage.dreamhosters.com
SUMMARY:Travel Trends
DESCRIPTION:This special feature will highlight the latest winter travel trends\, inspiring Canadians to plan their perfect getaway with ease.
URL:https://glstage.dreamhosters.com/opportunity/travel-trends-4/
LOCATION:National
CATEGORIES:Travel
END:VEVENT
BEGIN:VEVENT
DTSTART;VALUE=DATE:20251028
DTEND;VALUE=DATE:20251029
DTSTAMP:20260420T101245
CREATED:20250228T215054Z
LAST-MODIFIED:20250228T215054Z
UID:10002436-1761609600-1761695999@glstage.dreamhosters.com
SUMMARY:Cities Driving Growth
DESCRIPTION:A special feature will spotlight how these urban centres are adapting and excelling making them ideal places to live and work.
URL:https://glstage.dreamhosters.com/opportunity/cities-driving-growth-3/
LOCATION:National
CATEGORIES:Business
END:VEVENT
BEGIN:VEVENT
DTSTART;VALUE=DATE:20251027
DTEND;VALUE=DATE:20251028
DTSTAMP:20260420T101245
CREATED:20250612T211742Z
LAST-MODIFIED:20250815T083201Z
UID:10002590-1761523200-1761609599@glstage.dreamhosters.com
SUMMARY:Leadership in Mining & Exploration
DESCRIPTION:This special feature will spotlight the key players\, trends\, and breakthroughs defining the industry’s next chapter.
URL:https://glstage.dreamhosters.com/opportunity/leadership-in-mining-exploration-3/
LOCATION:National
CATEGORIES:Business
END:VEVENT
BEGIN:VEVENT
DTSTART;VALUE=DATE:20251027
DTEND;VALUE=DATE:20251028
DTSTAMP:20260420T101245
CREATED:20250122T183901Z
LAST-MODIFIED:20250122T183901Z
UID:10002373-1761523200-1761609599@glstage.dreamhosters.com
SUMMARY:Western Schools
DESCRIPTION:A print and digital special national feature  highlighting  research\, innovative collaborations in western schools
URL:https://glstage.dreamhosters.com/opportunity/western-schools-4/
LOCATION:National
CATEGORIES:Education
END:VEVENT
BEGIN:VEVENT
DTSTART;VALUE=DATE:20251025
DTEND;VALUE=DATE:20251026
DTSTAMP:20260420T101245
CREATED:20250616T124135Z
LAST-MODIFIED:20250616T124135Z
UID:10002596-1761350400-1761436799@glstage.dreamhosters.com
SUMMARY:Family Business
DESCRIPTION:This special feature will examine the enduring relevance of family businesses\, the strategic challenges they face and insights that help position them for continued impact
URL:https://glstage.dreamhosters.com/opportunity/family-business-2/
LOCATION:National
CATEGORIES:Business
END:VEVENT
BEGIN:VEVENT
DTSTART;VALUE=DATE:20251025
DTEND;VALUE=DATE:20251026
DTSTAMP:20260420T101245
CREATED:20250603T184848Z
LAST-MODIFIED:20250603T203303Z
UID:10002573-1761350400-1761436799@glstage.dreamhosters.com
SUMMARY:CANADA'S CAPITAL ROLE IN GLOBAL MINING
DESCRIPTION:This special feature will examine how Canadian capital markets are funding the next generation of mining innovation
URL:https://glstage.dreamhosters.com/opportunity/canadian-leadership-in-international-mining-2-2/
LOCATION:National
CATEGORIES:Business
END:VEVENT
BEGIN:VEVENT
DTSTART;VALUE=DATE:20251025
DTEND;VALUE=DATE:20251026
DTSTAMP:20260420T101245
CREATED:20250522T154612Z
LAST-MODIFIED:20250522T154628Z
UID:10002546-1761350400-1761436799@glstage.dreamhosters.com
SUMMARY:Report on Business magazine – November 2025 issue
DESCRIPTION:Report on Business magazine is the trusted source for business leaders and ambitious Canadians making a difference.
URL:https://glstage.dreamhosters.com/opportunity/report-on-business-magazine-november-2025-issue/
LOCATION:National
CATEGORIES:Automotive,Business,Finance - B2C,Luxury Living,Real Estate,Technology - B2B
END:VEVENT
BEGIN:VEVENT
DTSTART;VALUE=DATE:20251025
DTEND;VALUE=DATE:20251026
DTSTAMP:20260420T101245
CREATED:20250514T200705Z
LAST-MODIFIED:20250514T200705Z
UID:10002543-1761350400-1761436799@glstage.dreamhosters.com
SUMMARY:CREDENTIALED FOR SUCCESS
DESCRIPTION:This report will help ambitious professionals align credentials with career goals and stay competitive in rapidly evolving industries.
URL:https://glstage.dreamhosters.com/opportunity/credentialed-for-success/
LOCATION:National
CATEGORIES:Business,Education
END:VEVENT
BEGIN:VEVENT
DTSTART;VALUE=DATE:20251025
DTEND;VALUE=DATE:20251026
DTSTAMP:20260420T101245
CREATED:20250514T180609Z
LAST-MODIFIED:20250514T180609Z
UID:10002539-1761350400-1761436799@glstage.dreamhosters.com
SUMMARY:The AI Advantage
DESCRIPTION:This report will deliver practical insights for decision-makers navigating the opportunities and risks of an AI-powered economy. \n 
URL:https://glstage.dreamhosters.com/opportunity/the-ai-advantage/
LOCATION:National
CATEGORIES:Business,Technology - B2B
END:VEVENT
BEGIN:VEVENT
DTSTART;VALUE=DATE:20251025
DTEND;VALUE=DATE:20251026
DTSTAMP:20260420T101245
CREATED:20241128T193029Z
LAST-MODIFIED:20250210T155411Z
UID:10002291-1761350400-1761436799@glstage.dreamhosters.com
SUMMARY:Preparing the workforce of the future
DESCRIPTION:A print and digital special feature will highlight the critical initiatives and strategies shaping the future of work and fostering talent
URL:https://glstage.dreamhosters.com/opportunity/preparing-the-workforce-of-the-future-8/
LOCATION:National
CATEGORIES:Business,Education
END:VEVENT
BEGIN:VEVENT
DTSTART;VALUE=DATE:20251024
DTEND;VALUE=DATE:20251025
DTSTAMP:20260420T101245
CREATED:20250415T061234Z
LAST-MODIFIED:20250611T182311Z
UID:10002504-1761264000-1761350399@glstage.dreamhosters.com
SUMMARY:Early Childhood Education
DESCRIPTION:This special feature will explore the key trends and challenges facing ECE in Canada strategically timed in November and February which celebrates and advocate for early learning and child care
URL:https://glstage.dreamhosters.com/opportunity/early-childhood-education-2/
LOCATION:National
CATEGORIES:Education,Philanthropy
END:VEVENT
BEGIN:VEVENT
DTSTART;VALUE=DATE:20251024
DTEND;VALUE=DATE:20251025
DTSTAMP:20260420T101245
CREATED:20241112T212245Z
LAST-MODIFIED:20241113T195828Z
UID:10002277-1761264000-1761350399@glstage.dreamhosters.com
SUMMARY:Business technology revolution
DESCRIPTION:A print and digital special national feature will highlight how integration of new technologies in modern business can revolutionize work methodologies
URL:https://glstage.dreamhosters.com/opportunity/business-technology-revolution-6/
LOCATION:National
CATEGORIES:Business,Technology - B2B
END:VEVENT
BEGIN:VEVENT
DTSTART;VALUE=DATE:20251023
DTEND;VALUE=DATE:20251024
DTSTAMP:20260420T101245
CREATED:20241220T163650Z
LAST-MODIFIED:20241220T163650Z
UID:10002331-1761177600-1761263999@glstage.dreamhosters.com
SUMMARY:Cyber Security
DESCRIPTION:A print and digital special national feature will shine a light on cyber security
URL:https://glstage.dreamhosters.com/opportunity/cyber-security-2/
LOCATION:National
CATEGORIES:Business
END:VEVENT
BEGIN:VEVENT
DTSTART;VALUE=DATE:20251022
DTEND;VALUE=DATE:20251023
DTSTAMP:20260420T101245
CREATED:20250320T203157Z
LAST-MODIFIED:20250320T203157Z
UID:10002474-1761091200-1761177599@glstage.dreamhosters.com
SUMMARY:Donor Impact
DESCRIPTION:A print and digital special national feature on donor impact
URL:https://glstage.dreamhosters.com/opportunity/donor-impact-4/
LOCATION:National
CATEGORIES:Charity and Philanthropy,Health
END:VEVENT
BEGIN:VEVENT
DTSTART;VALUE=DATE:20251022
DTEND;VALUE=DATE:20251023
DTSTAMP:20260420T101245
CREATED:20250228T202920Z
LAST-MODIFIED:20250707T182810Z
UID:10002434-1761091200-1761177599@glstage.dreamhosters.com
SUMMARY:Smart Health and Home Solutions
DESCRIPTION:A special feature will explore how cutting-edge technologies enhance everyday living and healthcare outcomes
URL:https://glstage.dreamhosters.com/opportunity/smart-health-and-home-solutions-2/
LOCATION:National
CATEGORIES:Business,Health
END:VEVENT
BEGIN:VEVENT
DTSTART;VALUE=DATE:20251022
DTEND;VALUE=DATE:20251023
DTSTAMP:20260420T101245
CREATED:20250120T154328Z
LAST-MODIFIED:20250819T195714Z
UID:10002365-1761091200-1761177599@glstage.dreamhosters.com
SUMMARY:Pharmaceutical Research & Innovation
DESCRIPTION:A special feature will showcase the latest breakthroughs\, emerging technologies\, and the impact of innovative research on patient care and public health.
URL:https://glstage.dreamhosters.com/opportunity/pharmaceutical-research-innovation-3/
LOCATION:National
CATEGORIES:Health
END:VEVENT
BEGIN:VEVENT
DTSTART;VALUE=DATE:20251021
DTEND;VALUE=DATE:20251022
DTSTAMP:20260420T101245
CREATED:20250606T202145Z
LAST-MODIFIED:20250606T202145Z
UID:10002583-1761004800-1761091199@glstage.dreamhosters.com
SUMMARY:SCIENCE INNOVATION
DESCRIPTION:This special feature will spotlight the innovation ecosystems driving world-class science across the country — showcasing the
URL:https://glstage.dreamhosters.com/opportunity/science-innovation/
LOCATION:National
CATEGORIES:Business,Education
END:VEVENT
BEGIN:VEVENT
DTSTART;VALUE=DATE:20251021
DTEND;VALUE=DATE:20251022
DTSTAMP:20260420T101245
CREATED:20250529T142441Z
LAST-MODIFIED:20250529T142441Z
UID:10002555-1761004800-1761091199@glstage.dreamhosters.com
SUMMARY:Clean Energy Transition
DESCRIPTION:A special report which will explore the technologies \, strategies and partnerships accelerating the clean energy transition
URL:https://glstage.dreamhosters.com/opportunity/clean-energy-transition-2/
LOCATION:National
CATEGORIES:Business,Resources, Utilities and Environment
END:VEVENT
BEGIN:VEVENT
DTSTART;VALUE=DATE:20251021
DTEND;VALUE=DATE:20251022
DTSTAMP:20260420T101245
CREATED:20250325T162027Z
LAST-MODIFIED:20250325T162027Z
UID:10002483-1761004800-1761091199@glstage.dreamhosters.com
SUMMARY:Medical Devices
DESCRIPTION:A print and digital special nation feature highlighting how medical devices are essential tools in modern healthcare
URL:https://glstage.dreamhosters.com/opportunity/medical-devices-3/
LOCATION:National
CATEGORIES:Health
END:VEVENT
BEGIN:VEVENT
DTSTART;VALUE=DATE:20251021
DTEND;VALUE=DATE:20251022
DTSTAMP:20260420T101245
CREATED:20250307T182153Z
LAST-MODIFIED:20250307T182153Z
UID:10002451-1761004800-1761091199@glstage.dreamhosters.com
SUMMARY:Future of Accounting
DESCRIPTION:A special feature will explore how these advancements are shaping the future of accounting in Canada\, highlighting key trends and opportunities
URL:https://glstage.dreamhosters.com/opportunity/future-of-accounting-3/
LOCATION:National
CATEGORIES:Business
END:VEVENT
END:VCALENDAR