BEGIN:VCALENDAR
VERSION:2.0
PRODID:-//GMG STAGE - ECPv6.15.17.1//NONSGML v1.0//EN
CALSCALE:GREGORIAN
METHOD:PUBLISH
X-WR-CALNAME:GMG STAGE
X-ORIGINAL-URL:https://glstage.dreamhosters.com
X-WR-CALDESC:Events for GMG STAGE
REFRESH-INTERVAL;VALUE=DURATION:PT1H
X-Robots-Tag:noindex
X-PUBLISHED-TTL:PT1H
BEGIN:VTIMEZONE
TZID:America/Toronto
BEGIN:DAYLIGHT
TZOFFSETFROM:-0500
TZOFFSETTO:-0400
TZNAME:EDT
DTSTART:20250309T070000
END:DAYLIGHT
BEGIN:STANDARD
TZOFFSETFROM:-0400
TZOFFSETTO:-0500
TZNAME:EST
DTSTART:20251102T060000
END:STANDARD
BEGIN:DAYLIGHT
TZOFFSETFROM:-0500
TZOFFSETTO:-0400
TZNAME:EDT
DTSTART:20260308T070000
END:DAYLIGHT
BEGIN:STANDARD
TZOFFSETFROM:-0400
TZOFFSETTO:-0500
TZNAME:EST
DTSTART:20261101T060000
END:STANDARD
BEGIN:DAYLIGHT
TZOFFSETFROM:-0500
TZOFFSETTO:-0400
TZNAME:EDT
DTSTART:20270314T070000
END:DAYLIGHT
BEGIN:STANDARD
TZOFFSETFROM:-0400
TZOFFSETTO:-0500
TZNAME:EST
DTSTART:20271107T060000
END:STANDARD
END:VTIMEZONE
BEGIN:VEVENT
DTSTART;VALUE=DATE:20261204
DTEND;VALUE=DATE:20261205
DTSTAMP:20260420T071904
CREATED:20251002T174056Z
LAST-MODIFIED:20251002T174056Z
UID:10002708-1796342400-1796428799@glstage.dreamhosters.com
SUMMARY:SMALL BUSINESS PLAYBOOK
DESCRIPTION:The Small Business Playbook special report provides owners and decision-makers with guidance to strengthen their operations and unlock growth.
URL:https://glstage.dreamhosters.com/opportunity/small-business-playbook-5/
LOCATION:National
CATEGORIES:Business
END:VEVENT
BEGIN:VEVENT
DTSTART;VALUE=DATE:20261209
DTEND;VALUE=DATE:20261210
DTSTAMP:20260420T071904
CREATED:20250924T180023Z
LAST-MODIFIED:20250924T180023Z
UID:10002669-1796774400-1796860799@glstage.dreamhosters.com
SUMMARY:MANAGING YOUR WEALTH
DESCRIPTION:This special report series delivers expert insights and actionable strategies to help Boomers\, Gen X\, and Millennials protect\, grow\, and optimize their wealth.
URL:https://glstage.dreamhosters.com/opportunity/managing-your-wealth-4/
LOCATION:National
CATEGORIES:Finance - B2C
END:VEVENT
BEGIN:VEVENT
DTSTART;VALUE=DATE:20261209
DTEND;VALUE=DATE:20261210
DTSTAMP:20260420T071904
CREATED:20251014T184130Z
LAST-MODIFIED:20251014T184130Z
UID:10002744-1796774400-1796860799@glstage.dreamhosters.com
SUMMARY:Global Getaways
DESCRIPTION:Global Getaways is a curated guide that shines a spotlight on captivating international destinations.
URL:https://glstage.dreamhosters.com/opportunity/global-getaways-11/
LOCATION:National
CATEGORIES:Luxury Living,Travel
END:VEVENT
BEGIN:VEVENT
DTSTART;VALUE=DATE:20261214
DTEND;VALUE=DATE:20261215
DTSTAMP:20260420T071904
CREATED:20250924T183132Z
LAST-MODIFIED:20250924T183132Z
UID:10002673-1797206400-1797292799@glstage.dreamhosters.com
SUMMARY:INVESTING WITH ETFS
DESCRIPTION:Investing with ETFs will deliver timely analysis and strategies to guide smart decision-making.
URL:https://glstage.dreamhosters.com/opportunity/investing-with-etfs-4/
LOCATION:National
CATEGORIES:Finance - B2C
END:VEVENT
BEGIN:VEVENT
DTSTART;VALUE=DATE:20261216
DTEND;VALUE=DATE:20261217
DTSTAMP:20260420T071904
CREATED:20251002T185041Z
LAST-MODIFIED:20251002T185041Z
UID:10002714-1797379200-1797465599@glstage.dreamhosters.com
SUMMARY:RENEWABLE ENERGY IN CANADA: Next Generation Solutions
DESCRIPTION:This report explores how solar\, wind\, hydro\, and emerging technologies are transforming communities and industries across the country.
URL:https://glstage.dreamhosters.com/opportunity/renewable-energy-in-canada-next-generation-solutions-3/
LOCATION:National
CATEGORIES:Business,Resources, Utilities and Environment
END:VEVENT
BEGIN:VEVENT
DTSTART;VALUE=DATE:20261216
DTEND;VALUE=DATE:20261217
DTSTAMP:20260420T071904
CREATED:20251007T184012Z
LAST-MODIFIED:20251007T184012Z
UID:10002729-1797379200-1797465599@glstage.dreamhosters.com
SUMMARY:CRUISES
DESCRIPTION:Published monthly\, The Cruises report series will capture attention and inspire Cruise vacationing among The Globe’s travel-savvy audience.
URL:https://glstage.dreamhosters.com/opportunity/cruises-12/
LOCATION:National
CATEGORIES:Luxury Living,Travel
END:VEVENT
END:VCALENDAR