BEGIN:VCALENDAR
VERSION:2.0
PRODID:-//GMG STAGE - ECPv6.15.17.1//NONSGML v1.0//EN
CALSCALE:GREGORIAN
METHOD:PUBLISH
X-WR-CALNAME:GMG STAGE
X-ORIGINAL-URL:https://glstage.dreamhosters.com
X-WR-CALDESC:Events for GMG STAGE
REFRESH-INTERVAL;VALUE=DURATION:PT1H
X-Robots-Tag:noindex
X-PUBLISHED-TTL:PT1H
BEGIN:VTIMEZONE
TZID:America/Toronto
BEGIN:DAYLIGHT
TZOFFSETFROM:-0500
TZOFFSETTO:-0400
TZNAME:EDT
DTSTART:20240310T070000
END:DAYLIGHT
BEGIN:STANDARD
TZOFFSETFROM:-0400
TZOFFSETTO:-0500
TZNAME:EST
DTSTART:20241103T060000
END:STANDARD
BEGIN:DAYLIGHT
TZOFFSETFROM:-0500
TZOFFSETTO:-0400
TZNAME:EDT
DTSTART:20250309T070000
END:DAYLIGHT
BEGIN:STANDARD
TZOFFSETFROM:-0400
TZOFFSETTO:-0500
TZNAME:EST
DTSTART:20251102T060000
END:STANDARD
BEGIN:DAYLIGHT
TZOFFSETFROM:-0500
TZOFFSETTO:-0400
TZNAME:EDT
DTSTART:20260308T070000
END:DAYLIGHT
BEGIN:STANDARD
TZOFFSETFROM:-0400
TZOFFSETTO:-0500
TZNAME:EST
DTSTART:20261101T060000
END:STANDARD
END:VTIMEZONE
BEGIN:VEVENT
DTSTART;VALUE=DATE:20251127
DTEND;VALUE=DATE:20251128
DTSTAMP:20260420T085500
CREATED:20250605T202305Z
LAST-MODIFIED:20250605T202305Z
UID:10002578-1764201600-1764287999@glstage.dreamhosters.com
SUMMARY:Women's Brain Health
DESCRIPTION:A special feature strategically timed ahead of Women’s Brain Health Day\, it will explore the urgent need for gender-based research\, education\, and care to close the cognitive health gap.
URL:https://glstage.dreamhosters.com/opportunity/womens-brain-health/
LOCATION:National
CATEGORIES:Charity and Philanthropy,Health
END:VEVENT
BEGIN:VEVENT
DTSTART;VALUE=DATE:20251127
DTEND;VALUE=DATE:20251128
DTSTAMP:20260420T085500
CREATED:20250122T183257Z
LAST-MODIFIED:20250122T183257Z
UID:10002371-1764201600-1764287999@glstage.dreamhosters.com
SUMMARY:Next Generation of Farming
DESCRIPTION:A special feature will highlight the next generation of Canadian farmers and their essential role
URL:https://glstage.dreamhosters.com/opportunity/next-generation-of-farming-2/
LOCATION:National
CATEGORIES:Business
END:VEVENT
BEGIN:VEVENT
DTSTART;VALUE=DATE:20251126
DTEND;VALUE=DATE:20251127
DTSTAMP:20260420T085500
CREATED:20250617T200454Z
LAST-MODIFIED:20250617T200454Z
UID:10002599-1764115200-1764201599@glstage.dreamhosters.com
SUMMARY:FUTURE OF DIGITAL INFRASTRUCTURE
DESCRIPTION:This special feature will explore the future of networking\, cloud\, and data centre solutions in Canada
URL:https://glstage.dreamhosters.com/opportunity/future-of-digital-infrastructure/
LOCATION:National
CATEGORIES:Business
END:VEVENT
BEGIN:VEVENT
DTSTART;VALUE=DATE:20251126
DTEND;VALUE=DATE:20251127
DTSTAMP:20260420T085500
CREATED:20250530T145136Z
LAST-MODIFIED:20260127T185558Z
UID:10002563-1764115200-1764201599@glstage.dreamhosters.com
SUMMARY:Advancing Canadian Defence and Security
DESCRIPTION:A special feature will examine the modernization of Canadian defence capabilities — from cyber and aerospace to naval and AI-driven systems shaping the future of national and global security.
URL:https://glstage.dreamhosters.com/opportunity/advancing-canadian-defence-and-security-copy/
LOCATION:National
CATEGORIES:Business,Canada Strong
END:VEVENT
BEGIN:VEVENT
DTSTART;VALUE=DATE:20251126
DTEND;VALUE=DATE:20251127
DTSTAMP:20260420T085500
CREATED:20250210T193332Z
LAST-MODIFIED:20250210T193332Z
UID:10002388-1764115200-1764201599@glstage.dreamhosters.com
SUMMARY:Food security
DESCRIPTION:A special feature on food security
URL:https://glstage.dreamhosters.com/opportunity/food-security-2/
LOCATION:National
CATEGORIES:Business
END:VEVENT
BEGIN:VEVENT
DTSTART;VALUE=DATE:20251126
DTEND;VALUE=DATE:20251127
DTSTAMP:20260420T085500
CREATED:20241008T174844Z
LAST-MODIFIED:20250410T200152Z
UID:10002264-1764115200-1764201599@glstage.dreamhosters.com
SUMMARY:Estate planning and Legacy Giving Month
DESCRIPTION:A print and digital special national feature on estate planning and legacy giving month
URL:https://glstage.dreamhosters.com/opportunity/estate-planning-and-legacy-giving-month-2/
LOCATION:National
CATEGORIES:Business,Charity and Philanthropy
END:VEVENT
BEGIN:VEVENT
DTSTART;VALUE=DATE:20251125
DTEND;VALUE=DATE:20251126
DTSTAMP:20260420T085500
CREATED:20251010T144827Z
LAST-MODIFIED:20251010T144827Z
UID:10002736-1764028800-1764115199@glstage.dreamhosters.com
SUMMARY:Advancing Innovations in Health Care
DESCRIPTION:A special feature will explore the cutting-edge innovations driving the next generation of healthcare\, from AI to telemedicine and their impact
URL:https://glstage.dreamhosters.com/opportunity/advancing-innovations-in-health-care/
LOCATION:National
CATEGORIES:Business,Health
END:VEVENT
BEGIN:VEVENT
DTSTART;VALUE=DATE:20251125
DTEND;VALUE=DATE:20251126
DTSTAMP:20260420T085500
CREATED:20250829T142250Z
LAST-MODIFIED:20250829T142250Z
UID:10002643-1764028800-1764115199@glstage.dreamhosters.com
SUMMARY:CELEBRATE THE SEASON
DESCRIPTION:This report will offering the latest inspiration and gift ideas for unforgettable holiday celebrations.
URL:https://glstage.dreamhosters.com/opportunity/celebrate-the-season/
LOCATION:National
CATEGORIES:Luxury Living,Retail
END:VEVENT
BEGIN:VEVENT
DTSTART;VALUE=DATE:20251125
DTEND;VALUE=DATE:20251126
DTSTAMP:20260420T085500
CREATED:20241224T161935Z
LAST-MODIFIED:20241224T161935Z
UID:10002340-1764028800-1764115199@glstage.dreamhosters.com
SUMMARY:Advancing Canada’s net-zero goals
DESCRIPTION:A print and digital special national feature will highlight the leaders & organizations promising a significant impact on our journey to net zero.
URL:https://glstage.dreamhosters.com/opportunity/advancing-canadas-net-zero-goals-2/
LOCATION:National
CATEGORIES:Business
END:VEVENT
BEGIN:VEVENT
DTSTART;VALUE=DATE:20251124
DTEND;VALUE=DATE:20251125
DTSTAMP:20260420T085500
CREATED:20250819T184309Z
LAST-MODIFIED:20250819T184309Z
UID:10002636-1763942400-1764028799@glstage.dreamhosters.com
SUMMARY:Access to Medicine
DESCRIPTION:A print and digital special feature on the significant of equal access to medicine and accessibility
URL:https://glstage.dreamhosters.com/opportunity/access-to-medicine-2/
LOCATION:National
CATEGORIES:Charity and Philanthropy,Medicine
END:VEVENT
BEGIN:VEVENT
DTSTART;VALUE=DATE:20251124
DTEND;VALUE=DATE:20251125
DTSTAMP:20260420T085500
CREATED:20250320T204126Z
LAST-MODIFIED:20250320T204126Z
UID:10002475-1763942400-1764028799@glstage.dreamhosters.com
SUMMARY:Donor Impact
DESCRIPTION:A print and digital special national feature on donor impact
URL:https://glstage.dreamhosters.com/opportunity/donor-impact-4-2/
LOCATION:National
CATEGORIES:Health,Philanthropy
END:VEVENT
BEGIN:VEVENT
DTSTART;VALUE=DATE:20251124
DTEND;VALUE=DATE:20251125
DTSTAMP:20260420T085500
CREATED:20241213T184412Z
LAST-MODIFIED:20241213T184412Z
UID:10002324-1763942400-1764028799@glstage.dreamhosters.com
SUMMARY:Life Beyond Addiction
DESCRIPTION:A print and digital special national feature on life beyond addiction & timed for National Addictions Awareness Week NAAW
URL:https://glstage.dreamhosters.com/opportunity/life-beyond-addiction-4/
LOCATION:National
CATEGORIES:Health
END:VEVENT
BEGIN:VEVENT
DTSTART;VALUE=DATE:20251121
DTEND;VALUE=DATE:20251122
DTSTAMP:20260420T085500
CREATED:20250307T190821Z
LAST-MODIFIED:20250307T190821Z
UID:10002457-1763683200-1763769599@glstage.dreamhosters.com
SUMMARY:REIMAGINING RETIREMENT COMMUNITIES
DESCRIPTION:Today’s seniors have new expectations for aging well. This special report explores how retirement communities are rising to meet them.
URL:https://glstage.dreamhosters.com/opportunity/reimagining-retirement-communities-10/
LOCATION:National
CATEGORIES:Health,Luxury Living,Real Estate
END:VEVENT
BEGIN:VEVENT
DTSTART;VALUE=DATE:20251121
DTEND;VALUE=DATE:20251122
DTSTAMP:20260420T085500
CREATED:20241213T185856Z
LAST-MODIFIED:20250108T145110Z
UID:10002326-1763683200-1763769599@glstage.dreamhosters.com
SUMMARY:Excellence in research and innovation
DESCRIPTION:A print and digital special feature will explore how cutting-edge research infrastructure empowers researchers to develop groundbreaking ideas in Canada and on the global stage.
URL:https://glstage.dreamhosters.com/opportunity/excellence-in-research-innovation-2/
LOCATION:National
CATEGORIES:Education,Health
END:VEVENT
BEGIN:VEVENT
DTSTART;VALUE=DATE:20251120
DTEND;VALUE=DATE:20251121
DTSTAMP:20260420T085500
CREATED:20250828T181506Z
LAST-MODIFIED:20250828T181506Z
UID:10002641-1763596800-1763683199@glstage.dreamhosters.com
SUMMARY:BLACK FRIDAY/CYBER MONDAY
DESCRIPTION:Showcase your deals and reach customers who are ready to take advantage of great offers in this special report opportunity.
URL:https://glstage.dreamhosters.com/opportunity/black-friday-cyber-monday/
LOCATION:National
CATEGORIES:Retail
END:VEVENT
BEGIN:VEVENT
DTSTART;VALUE=DATE:20251120
DTEND;VALUE=DATE:20251121
DTSTAMP:20260420T085500
CREATED:20250623T211233Z
LAST-MODIFIED:20250623T211233Z
UID:10002603-1763596800-1763683199@glstage.dreamhosters.com
SUMMARY:Smart\, Sustainable & Strategic Real Estate
DESCRIPTION:This special feature will spotlight the latest trends\, strategies\, and forward-looking projects shaping the commercial and residential markets with green innovation and more
URL:https://glstage.dreamhosters.com/opportunity/smart-sustainable-strategic-real-estate-3/
LOCATION:National
CATEGORIES:Business
END:VEVENT
BEGIN:VEVENT
DTSTART;VALUE=DATE:20251120
DTEND;VALUE=DATE:20251121
DTSTAMP:20260420T085500
CREATED:20241220T164635Z
LAST-MODIFIED:20250410T154330Z
UID:10002332-1763596800-1763683199@glstage.dreamhosters.com
SUMMARY:Gold & Precious Metals
DESCRIPTION:A special feature will examine the evolving landscape of precious metals in Canada\, from market dynamics and export value to environmental leadership and emerging trends
URL:https://glstage.dreamhosters.com/opportunity/gold-precious-metals-3/
LOCATION:National
CATEGORIES:Business
END:VEVENT
BEGIN:VEVENT
DTSTART;VALUE=DATE:20251119
DTEND;VALUE=DATE:20251120
DTSTAMP:20260420T085500
CREATED:20250106T145110Z
LAST-MODIFIED:20250915T155443Z
UID:10002342-1763510400-1763596799@glstage.dreamhosters.com
SUMMARY:EUROPE 2025
DESCRIPTION:This special report will highlight the best of European travel. It’s a unique opportunity for advertisers to also spotlight their destination in an engaging content environment.
URL:https://glstage.dreamhosters.com/opportunity/europe-2025-2/
LOCATION:National
CATEGORIES:Luxury Living,Travel
END:VEVENT
BEGIN:VEVENT
DTSTART;VALUE=DATE:20251119
DTEND;VALUE=DATE:20251120
DTSTAMP:20260420T085500
CREATED:20241203T213219Z
LAST-MODIFIED:20241203T213219Z
UID:10002307-1763510400-1763596799@glstage.dreamhosters.com
SUMMARY:Energy resources and industry
DESCRIPTION:A print and digital special national feature on  energy resources and industry
URL:https://glstage.dreamhosters.com/opportunity/energy-resources-and-industry-4/
LOCATION:National
CATEGORIES:Resources, Utilities and Environment
END:VEVENT
BEGIN:VEVENT
DTSTART;VALUE=DATE:20251118
DTEND;VALUE=DATE:20251119
DTSTAMP:20260420T085500
CREATED:20250606T145725Z
LAST-MODIFIED:20250606T181515Z
UID:10002579-1763424000-1763510399@glstage.dreamhosters.com
SUMMARY:POWERING CANADA'S AEROSPACE FUTURE
DESCRIPTION:This special feature will spotlight how Canada’s aerospace industry is advancing innovation\, securing competitiveness and creating opportunities for Canadians.
URL:https://glstage.dreamhosters.com/opportunity/powering-canadas-aerospace-future/
LOCATION:National
CATEGORIES:Technology - B2B
END:VEVENT
BEGIN:VEVENT
DTSTART;VALUE=DATE:20251118
DTEND;VALUE=DATE:20251119
DTSTAMP:20260420T085500
CREATED:20250120T160555Z
LAST-MODIFIED:20250514T083943Z
UID:10002368-1763424000-1763510399@glstage.dreamhosters.com
SUMMARY:Planning for Life’s Final Arrangements
DESCRIPTION:This special feature will explore the many ways Canadians can approach end-of-life planning with dignity and practicality. Timed for National Grief and Bereavement Day
URL:https://glstage.dreamhosters.com/opportunity/planning-for-lifes-final-arrangements-2/
LOCATION:National
CATEGORIES:Finance - B2C
END:VEVENT
BEGIN:VEVENT
DTSTART;VALUE=DATE:20251118
DTEND;VALUE=DATE:20251119
DTSTAMP:20260420T085500
CREATED:20241205T181714Z
LAST-MODIFIED:20241205T181714Z
UID:10002310-1763424000-1763510399@glstage.dreamhosters.com
SUMMARY:Strategic Wealth Transfer
DESCRIPTION:A print and digital special national feature will explore how to effectively manage the transfer of wealth to secure financial legacies
URL:https://glstage.dreamhosters.com/opportunity/strategic-wealth-transfer-3/
LOCATION:National
CATEGORIES:Business
END:VEVENT
BEGIN:VEVENT
DTSTART;VALUE=DATE:20251118
DTEND;VALUE=DATE:20251119
DTSTAMP:20260420T085500
CREATED:20241004T182310Z
LAST-MODIFIED:20241004T182310Z
UID:10002263-1763424000-1763510399@glstage.dreamhosters.com
SUMMARY:Open banking
DESCRIPTION:A print and digital special national feature will spotlight innovative tools and institutions that make open banking more secure than ever.
URL:https://glstage.dreamhosters.com/opportunity/open-banking-4/
LOCATION:National
CATEGORIES:Business
END:VEVENT
BEGIN:VEVENT
DTSTART;TZID=America/Toronto:20251117T080000
DTEND;TZID=America/Toronto:20251117T170000
DTSTAMP:20260420T085500
CREATED:20241206T145149Z
LAST-MODIFIED:20250815T084138Z
UID:10002315-1763366400-1763398800@glstage.dreamhosters.com
SUMMARY:Financial Planning Week
DESCRIPTION:A print and digital special national feature strategically times for Financial Planning Week
URL:https://glstage.dreamhosters.com/opportunity/financial-planning-week/
LOCATION:National
CATEGORIES:Business
END:VEVENT
BEGIN:VEVENT
DTSTART;VALUE=DATE:20251117
DTEND;VALUE=DATE:20251118
DTSTAMP:20260420T085500
CREATED:20250909T015226Z
LAST-MODIFIED:20250909T015646Z
UID:10002652-1763337600-1763423999@glstage.dreamhosters.com
SUMMARY:Dementia in Canada
DESCRIPTION:This special feature will spotlight how Canadians are navigating the realities of dementia
URL:https://glstage.dreamhosters.com/opportunity/dementia-in-canada/
LOCATION:National
CATEGORIES:Health,Philanthropy
END:VEVENT
BEGIN:VEVENT
DTSTART;VALUE=DATE:20251117
DTEND;VALUE=DATE:20251118
DTSTAMP:20260420T085500
CREATED:20250819T195824Z
LAST-MODIFIED:20250819T195824Z
UID:10002638-1763337600-1763423999@glstage.dreamhosters.com
SUMMARY:Pharmaceutical Research & Innovation
DESCRIPTION:A special feature will showcase the latest breakthroughs\, emerging technologies\, and the impact of innovative research on patient care and public health.
URL:https://glstage.dreamhosters.com/opportunity/pharmaceutical-research-innovation/
LOCATION:National
CATEGORIES:Medicine
END:VEVENT
BEGIN:VEVENT
DTSTART;VALUE=DATE:20251117
DTEND;VALUE=DATE:20251118
DTSTAMP:20260420T085500
CREATED:20250609T164537Z
LAST-MODIFIED:20250609T164537Z
UID:10002584-1763337600-1763423999@glstage.dreamhosters.com
SUMMARY:Reframe aging as Canada's advantage
DESCRIPTION:A special report will explore how reframing age can unlock innovation & reshaping what it means to grow older in Canada.
URL:https://glstage.dreamhosters.com/opportunity/reframe-aging-as-canadas-advantage/
LOCATION:National
CATEGORIES:Business,Charity and Philanthropy
END:VEVENT
BEGIN:VEVENT
DTSTART;VALUE=DATE:20251117
DTEND;VALUE=DATE:20251118
DTSTAMP:20260420T085500
CREATED:20241008T183138Z
LAST-MODIFIED:20241008T183138Z
UID:10002270-1763337600-1763423999@glstage.dreamhosters.com
SUMMARY:Retirement Ready
DESCRIPTION:A print and digital special national feature will explore key aspects of retirement planning
URL:https://glstage.dreamhosters.com/opportunity/retirement-ready-10/
LOCATION:National
CATEGORIES:Business
END:VEVENT
BEGIN:VEVENT
DTSTART;VALUE=DATE:20251114
DTEND;VALUE=DATE:20251115
DTSTAMP:20260420T085500
CREATED:20250210T204325Z
LAST-MODIFIED:20250410T213220Z
UID:10002393-1763078400-1763164799@glstage.dreamhosters.com
SUMMARY:Diabetes Awareness Month & World Diabetes Day
DESCRIPTION:A special feature—produced in conjunction with Diabetes Canada and timed to align with the start of Awareness Month and World Diabetes Day
URL:https://glstage.dreamhosters.com/opportunity/diabetes-awareness-month-world-diabetes-day-5/
LOCATION:National
CATEGORIES:Charity and Philanthropy
END:VEVENT
BEGIN:VEVENT
DTSTART;VALUE=DATE:20251114
DTEND;VALUE=DATE:20251115
DTSTAMP:20260420T085500
CREATED:20250116T181029Z
LAST-MODIFIED:20250911T154151Z
UID:10002350-1763078400-1763164799@glstage.dreamhosters.com
SUMMARY:National Philanthropy Day
DESCRIPTION:A special feature on National Philanthropy Day in conjunction with AFP
URL:https://glstage.dreamhosters.com/opportunity/national-philanthropy-day-2/
LOCATION:National
CATEGORIES:Charity and Philanthropy
END:VEVENT
END:VCALENDAR