BEGIN:VCALENDAR
VERSION:2.0
PRODID:-//GMG STAGE - ECPv6.15.17.1//NONSGML v1.0//EN
CALSCALE:GREGORIAN
METHOD:PUBLISH
X-ORIGINAL-URL:https://glstage.dreamhosters.com
X-WR-CALDESC:Events for GMG STAGE
REFRESH-INTERVAL;VALUE=DURATION:PT1H
X-Robots-Tag:noindex
X-PUBLISHED-TTL:PT1H
BEGIN:VTIMEZONE
TZID:America/Toronto
BEGIN:DAYLIGHT
TZOFFSETFROM:-0500
TZOFFSETTO:-0400
TZNAME:EDT
DTSTART:20250309T070000
END:DAYLIGHT
BEGIN:STANDARD
TZOFFSETFROM:-0400
TZOFFSETTO:-0500
TZNAME:EST
DTSTART:20251102T060000
END:STANDARD
BEGIN:DAYLIGHT
TZOFFSETFROM:-0500
TZOFFSETTO:-0400
TZNAME:EDT
DTSTART:20260308T070000
END:DAYLIGHT
BEGIN:STANDARD
TZOFFSETFROM:-0400
TZOFFSETTO:-0500
TZNAME:EST
DTSTART:20261101T060000
END:STANDARD
BEGIN:DAYLIGHT
TZOFFSETFROM:-0500
TZOFFSETTO:-0400
TZNAME:EDT
DTSTART:20270314T070000
END:DAYLIGHT
BEGIN:STANDARD
TZOFFSETFROM:-0400
TZOFFSETTO:-0500
TZNAME:EST
DTSTART:20271107T060000
END:STANDARD
END:VTIMEZONE
BEGIN:VEVENT
DTSTART;VALUE=DATE:20260417
DTEND;VALUE=DATE:20260418
DTSTAMP:20260420T055307
CREATED:20250929T162243Z
LAST-MODIFIED:20250929T162243Z
UID:10002693-1776384000-1776470399@glstage.dreamhosters.com
SUMMARY:FAMILY BUSINESS
DESCRIPTION: This special feature will examine the enduring relevance of family businesses\, the strategic challenges they face & the tools and insights that help position them for continued impact 
URL:https://glstage.dreamhosters.com/opportunity/family-business-6/
LOCATION:National
CATEGORIES:Business,Finance - B2C
END:VEVENT
BEGIN:VEVENT
DTSTART;VALUE=DATE:20260415
DTEND;VALUE=DATE:20260416
DTSTAMP:20260420T055307
CREATED:20251007T182945Z
LAST-MODIFIED:20251007T182945Z
UID:10002721-1776211200-1776297599@glstage.dreamhosters.com
SUMMARY:CRUISES
DESCRIPTION:Published monthly\, The Cruises report series will capture attention and inspire Cruise vacationing among The Globe’s travel-savvy audience.
URL:https://glstage.dreamhosters.com/opportunity/cruises-4/
LOCATION:National
CATEGORIES:Luxury Living,Travel
END:VEVENT
BEGIN:VEVENT
DTSTART;VALUE=DATE:20260414
DTEND;VALUE=DATE:20260415
DTSTAMP:20260420T055307
CREATED:20251007T201903Z
LAST-MODIFIED:20251007T201903Z
UID:10002733-1776124800-1776211199@glstage.dreamhosters.com
SUMMARY:TAX TIME 2026
DESCRIPTION:From organizing receipts to understanding filing options\, this special report equips consumers with practical tax filing strategies.
URL:https://glstage.dreamhosters.com/opportunity/tax-time-2026-2/
LOCATION:National
CATEGORIES:Finance - B2C
END:VEVENT
BEGIN:VEVENT
DTSTART;VALUE=DATE:20260413
DTEND;VALUE=DATE:20260414
DTSTAMP:20260420T055307
CREATED:20250924T182902Z
LAST-MODIFIED:20250924T182902Z
UID:10002671-1776038400-1776124799@glstage.dreamhosters.com
SUMMARY:INVESTING WITH ETFS
DESCRIPTION:Investing with ETFs will deliver timely analysis and strategies to guide smart decision-making.
URL:https://glstage.dreamhosters.com/opportunity/investing-with-etfs-2/
LOCATION:National
CATEGORIES:Finance - B2C
END:VEVENT
BEGIN:VEVENT
DTSTART;VALUE=DATE:20260410
DTEND;VALUE=DATE:20260411
DTSTAMP:20260420T055307
CREATED:20251027T183526Z
LAST-MODIFIED:20251027T183526Z
UID:10002773-1775779200-1775865599@glstage.dreamhosters.com
SUMMARY:ONTARIO ARTS AND CULTURE
DESCRIPTION:This report\, published in spring and fall 2026\, provides a unique opportunity for advertisers to reach a sophisticated\, engaged audience that values creativity and cultural experiences
URL:https://glstage.dreamhosters.com/opportunity/ontario-arts-and-culture/
LOCATION:National
CATEGORIES:Arts and Entertainment,Retail,Travel
END:VEVENT
BEGIN:VEVENT
DTSTART;VALUE=DATE:20260409
DTEND;VALUE=DATE:20260410
DTSTAMP:20260420T055307
CREATED:20251002T144055Z
LAST-MODIFIED:20251002T144055Z
UID:10002696-1775692800-1775779199@glstage.dreamhosters.com
SUMMARY:FUTURE PROOFING SMALL BUSINESS
DESCRIPTION:Future Proofing Small Business is a report series to help entrepreneurs navigate uncertainty and identify opportunities.
URL:https://glstage.dreamhosters.com/opportunity/future-proofing-small-business-6/
LOCATION:National
CATEGORIES:Business
END:VEVENT
BEGIN:VEVENT
DTSTART;VALUE=DATE:20260408
DTEND;VALUE=DATE:20260409
DTSTAMP:20260420T055307
CREATED:20251009T193455Z
LAST-MODIFIED:20251009T193455Z
UID:10002735-1775606400-1775692799@glstage.dreamhosters.com
SUMMARY:EUROPE 2026
DESCRIPTION:The Globe and Mail’s Europe 2026 special report will inspire readers with fresh ideas and insights for planning their next journey abroad.
URL:https://glstage.dreamhosters.com/opportunity/europe-2026/
LOCATION:National
CATEGORIES:Luxury Living,Travel
END:VEVENT
BEGIN:VEVENT
DTSTART;VALUE=DATE:20260407
DTEND;VALUE=DATE:20260408
DTSTAMP:20260420T055307
CREATED:20250613T161044Z
LAST-MODIFIED:20250613T161044Z
UID:10002591-1775520000-1775606399@glstage.dreamhosters.com
SUMMARY:Championing Caregivers
DESCRIPTION:A report timed for Spring to honour National Caregiver Day in April and National Family Caregivers Month in May\, this special feature will shine a light on
URL:https://glstage.dreamhosters.com/opportunity/championing-caregivers/
LOCATION:National
CATEGORIES:Charity and Philanthropy,Health,Philanthropy
END:VEVENT
BEGIN:VEVENT
DTSTART;VALUE=DATE:20260401
DTEND;VALUE=DATE:20260402
DTSTAMP:20260420T055307
CREATED:20250813T191917Z
LAST-MODIFIED:20250813T191917Z
UID:10002630-1775001600-1775087999@glstage.dreamhosters.com
SUMMARY:World Wish Month
DESCRIPTION:This special feature highlights April is World Wish Month – a celebration of courage\, compassion\, community & World Wish Day on April 29
URL:https://glstage.dreamhosters.com/opportunity/world-wish-month/
LOCATION:National
CATEGORIES:Philanthropy
END:VEVENT
BEGIN:VEVENT
DTSTART;VALUE=DATE:20260330
DTEND;VALUE=DATE:20260331
DTSTAMP:20260420T055307
CREATED:20251028T074734Z
LAST-MODIFIED:20251028T074734Z
UID:10002775-1774828800-1774915199@glstage.dreamhosters.com
SUMMARY:Type-1 diabetes
DESCRIPTION:A report will explore how research\, innovation\, and empathy intersect to improve quality of life and long-term outcomes for those living with diabetes
URL:https://glstage.dreamhosters.com/opportunity/type-1-diabetes/
LOCATION:National
CATEGORIES:Health,Philanthropy
END:VEVENT
BEGIN:VEVENT
DTSTART;VALUE=DATE:20260328
DTEND;VALUE=DATE:20260329
DTSTAMP:20260420T055307
CREATED:20250522T160137Z
LAST-MODIFIED:20250522T160137Z
UID:10002549-1774656000-1774742399@glstage.dreamhosters.com
SUMMARY:Report on Business magazine – April 2026 issue
DESCRIPTION:Report on Business magazine is the trusted source for business leaders and ambitious Canadians making a difference.
URL:https://glstage.dreamhosters.com/opportunity/report-on-business-magazine-april-2026-issue/
LOCATION:National
CATEGORIES:Automotive,Business,Finance - B2C,Luxury Living,Technology - B2B
END:VEVENT
BEGIN:VEVENT
DTSTART;VALUE=DATE:20260328
DTEND;VALUE=DATE:20260329
DTSTAMP:20260420T055307
CREATED:20250514T200819Z
LAST-MODIFIED:20250514T200819Z
UID:10002544-1774656000-1774742399@glstage.dreamhosters.com
SUMMARY:CREDENTIALED FOR SUCCESS
DESCRIPTION:This report will help ambitious professionals align credentials with career goals and stay competitive in rapidly evolving industries.
URL:https://glstage.dreamhosters.com/opportunity/credentialed-for-success-2/
LOCATION:National
CATEGORIES:Business,Education
END:VEVENT
BEGIN:VEVENT
DTSTART;VALUE=DATE:20260328
DTEND;VALUE=DATE:20260329
DTSTAMP:20260420T055307
CREATED:20250512T203249Z
LAST-MODIFIED:20250512T203249Z
UID:10002535-1774656000-1774742399@glstage.dreamhosters.com
SUMMARY:SMALL BUSINESS – NAVIGATING CHANGE
DESCRIPTION:This report is part of a 3-part series exploring trends\, tools\, and strategies for Canadian small businesses
URL:https://glstage.dreamhosters.com/opportunity/small-business-navigating-change/
LOCATION:National
CATEGORIES:Business,Economic Development
END:VEVENT
BEGIN:VEVENT
DTSTART;VALUE=DATE:20260327
DTEND;VALUE=DATE:20260328
DTSTAMP:20260420T055307
CREATED:20251023T144308Z
LAST-MODIFIED:20251119T073024Z
UID:10002766-1774569600-1774655999@glstage.dreamhosters.com
SUMMARY:Strategic Wealth Management
DESCRIPTION:A special feature that will highlight how wealth management is evolving
URL:https://glstage.dreamhosters.com/opportunity/strategic-wealth-management-3/
LOCATION:National
CATEGORIES:Business
END:VEVENT
BEGIN:VEVENT
DTSTART;VALUE=DATE:20260320
DTEND;VALUE=DATE:20260321
DTSTAMP:20260420T055307
CREATED:20251028T200412Z
LAST-MODIFIED:20251028T200412Z
UID:10002778-1773964800-1774051199@glstage.dreamhosters.com
SUMMARY:LUXURY REAL ESTATE
DESCRIPTION:This special report is a premium platform where advertisers can connect with readers looking for information on premium condos\, high-end townhomes\, and estate homes\, across the GTA.
URL:https://glstage.dreamhosters.com/opportunity/luxury-real-estate/
LOCATION:National
CATEGORIES:Luxury Living,Real Estate
END:VEVENT
BEGIN:VEVENT
DTSTART;VALUE=DATE:20260320
DTEND;VALUE=DATE:20260321
DTSTAMP:20260420T055307
CREATED:20250707T192913Z
LAST-MODIFIED:20250707T192913Z
UID:10002616-1773964800-1774051199@glstage.dreamhosters.com
SUMMARY:WATER SECURITY
DESCRIPTION:A special feature on water security
URL:https://glstage.dreamhosters.com/opportunity/water-security-2/
LOCATION:National
CATEGORIES:Business,Sustainability
END:VEVENT
BEGIN:VEVENT
DTSTART;VALUE=DATE:20260317
DTEND;VALUE=DATE:20260318
DTSTAMP:20260420T055307
CREATED:20251007T201323Z
LAST-MODIFIED:20251007T201323Z
UID:10002732-1773705600-1773791999@glstage.dreamhosters.com
SUMMARY:TAX TIME 2026
DESCRIPTION:From organizing receipts to understanding filing options\, this special report equips consumers with practical tax filing strategies.
URL:https://glstage.dreamhosters.com/opportunity/tax-time-2026/
LOCATION:National
CATEGORIES:Finance - B2C
END:VEVENT
BEGIN:VEVENT
DTSTART;VALUE=DATE:20260316
DTEND;VALUE=DATE:20260317
DTSTAMP:20260420T055307
CREATED:20251003T142831Z
LAST-MODIFIED:20251003T142831Z
UID:10002715-1773619200-1773705599@glstage.dreamhosters.com
SUMMARY:Investment Funds & Trends
DESCRIPTION:This special feature will examine how Canadians are adapting to new market realities\, highlighting the trends\, risks\, and innovations shaping capital management today.
URL:https://glstage.dreamhosters.com/opportunity/investment-funds-trends-3/
LOCATION:National
CATEGORIES:Business,Finance - B2B
END:VEVENT
BEGIN:VEVENT
DTSTART;VALUE=DATE:20260311
DTEND;VALUE=DATE:20260312
DTSTAMP:20260420T055307
CREATED:20251022T205243Z
LAST-MODIFIED:20251022T205243Z
UID:10002758-1773187200-1773273599@glstage.dreamhosters.com
SUMMARY:PREPARING THE WORKFORCE OF THE FUTURE
DESCRIPTION:A report highlighting critical initiatives shaping the future of work
URL:https://glstage.dreamhosters.com/opportunity/preparing-the-workforce-of-the-future-2/
LOCATION:National
CATEGORIES:Business
END:VEVENT
BEGIN:VEVENT
DTSTART;VALUE=DATE:20260311
DTEND;VALUE=DATE:20260312
DTSTAMP:20260420T055307
CREATED:20251007T182834Z
LAST-MODIFIED:20251007T182834Z
UID:10002720-1773187200-1773273599@glstage.dreamhosters.com
SUMMARY:CRUISES
DESCRIPTION:Published monthly\, The Cruises report series will capture attention and inspire Cruise vacationing among The Globe’s travel-savvy audience.
URL:https://glstage.dreamhosters.com/opportunity/cruises-3/
LOCATION:National
CATEGORIES:Luxury Living,Travel
END:VEVENT
BEGIN:VEVENT
DTSTART;VALUE=DATE:20260311
DTEND;VALUE=DATE:20260312
DTSTAMP:20260420T055307
CREATED:20251002T184754Z
LAST-MODIFIED:20251002T184754Z
UID:10002712-1773187200-1773273599@glstage.dreamhosters.com
SUMMARY:RENEWABLE ENERGY IN CANADA: Next Generation Solutions
DESCRIPTION:This report explores how solar\, wind\, hydro\, and emerging technologies are transforming communities and industries across the country.
URL:https://glstage.dreamhosters.com/opportunity/renewable-energy-in-canada-next-generation-solutions/
LOCATION:National
CATEGORIES:Business,Resources, Utilities and Environment
END:VEVENT
BEGIN:VEVENT
DTSTART;VALUE=DATE:20260310
DTEND;VALUE=DATE:20260311
DTSTAMP:20260420T055307
CREATED:20250606T160347Z
LAST-MODIFIED:20250606T182303Z
UID:10002581-1773100800-1773187199@glstage.dreamhosters.com
SUMMARY:BRAIN HEALTH AWARNESS
DESCRIPTION:This feature will spotlighting Research\, Prevention and Lifelong Well-Being – Timed for Brain Health Awareness Week and Month_
URL:https://glstage.dreamhosters.com/opportunity/brain-health-awarness/
LOCATION:National
CATEGORIES:Charity and Philanthropy,Health
END:VEVENT
BEGIN:VEVENT
DTSTART;VALUE=DATE:20260309
DTEND;VALUE=DATE:20260310
DTSTAMP:20260420T055307
CREATED:20251003T145423Z
LAST-MODIFIED:20251003T145423Z
UID:10002717-1773014400-1773100799@glstage.dreamhosters.com
SUMMARY:Fraud Prevention & Cyber Security
DESCRIPTION:This special feature will highlight how organizations and consumers can  protect against both traditional fraud & emerging cyber risks in Fraud Prevention Month
URL:https://glstage.dreamhosters.com/opportunity/fraud-prevention-cyber-security/
LOCATION:National
CATEGORIES:Business,Finance - B2B
END:VEVENT
BEGIN:VEVENT
DTSTART;VALUE=DATE:20260309
DTEND;VALUE=DATE:20260310
DTSTAMP:20260420T055307
CREATED:20250926T201814Z
LAST-MODIFIED:20250926T204005Z
UID:10002685-1773014400-1773100799@glstage.dreamhosters.com
SUMMARY:Canada’s Mortgages Market
DESCRIPTION:This special feature will examine the pressures & opportunities in Canada’s mortgage market\, highlighting the strategies & tools shaping outcomes for borrowers and lenders alike.
URL:https://glstage.dreamhosters.com/opportunity/canadas-mortgages-market/
LOCATION:National
CATEGORIES:Finance - B2C
END:VEVENT
BEGIN:VEVENT
DTSTART;VALUE=DATE:20260307
DTEND;VALUE=DATE:20260308
DTSTAMP:20260420T055307
CREATED:20250529T200428Z
LAST-MODIFIED:20250529T200428Z
UID:10002558-1772841600-1772927999@glstage.dreamhosters.com
SUMMARY:International Women’s Day
DESCRIPTION:A special feature timed strategically ahead of International Women’s Day will spotlight stories of leadership\, allyship\, and action\, showcasing the individuals and organizations creating
URL:https://glstage.dreamhosters.com/opportunity/international-womens-day/
LOCATION:National
CATEGORIES:Business,Charity and Philanthropy
END:VEVENT
BEGIN:VEVENT
DTSTART;VALUE=DATE:20260306
DTEND;VALUE=DATE:20260307
DTSTAMP:20260420T055307
CREATED:20251020T143041Z
LAST-MODIFIED:20251020T143041Z
UID:10002754-1772755200-1772841599@glstage.dreamhosters.com
SUMMARY:International Women’s Day
DESCRIPTION:A special report celebrating International Women’s Day
URL:https://glstage.dreamhosters.com/opportunity/international-womens-day-2/
LOCATION:National
CATEGORIES:Business,Charity and Philanthropy
END:VEVENT
BEGIN:VEVENT
DTSTART;VALUE=DATE:20260306
DTEND;VALUE=DATE:20260307
DTSTAMP:20260420T055307
CREATED:20251002T173519Z
LAST-MODIFIED:20251002T173519Z
UID:10002704-1772755200-1772841599@glstage.dreamhosters.com
SUMMARY:SMALL BUSINESS PLAYBOOK
DESCRIPTION:The Small Business Playbook special report provides owners and decision-makers with guidance to strengthen their operations and unlock growth.
URL:https://glstage.dreamhosters.com/opportunity/small-business-playbook/
LOCATION:National
CATEGORIES:Business
END:VEVENT
BEGIN:VEVENT
DTSTART;VALUE=DATE:20260303
DTEND;VALUE=DATE:20260304
DTSTAMP:20260420T055307
CREATED:20250415T054848Z
LAST-MODIFIED:20250415T054848Z
UID:10002502-1772496000-1772582399@glstage.dreamhosters.com
SUMMARY:The Future of Hearing Health
DESCRIPTION:This special feature explores how innovations in hearing devices\, patient care\, and industry partnerships are shaping the future of hearing health
URL:https://glstage.dreamhosters.com/opportunity/the-future-of-hearing-health-2/
LOCATION:National
CATEGORIES:Health,Philanthropy
END:VEVENT
BEGIN:VEVENT
DTSTART;VALUE=DATE:20260302
DTEND;VALUE=DATE:20260303
DTSTAMP:20260420T055307
CREATED:20250909T013737Z
LAST-MODIFIED:20250909T013737Z
UID:10002651-1772409600-1772495999@glstage.dreamhosters.com
SUMMARY:KIDNEY HEALTH MONTH
DESCRIPTION:A national report highlighting  Kidney Health Month brings attention to a silent yet widespread health issue that affects millions across the nation.
URL:https://glstage.dreamhosters.com/opportunity/kidney-health-month/
LOCATION:National
CATEGORIES:Health
END:VEVENT
BEGIN:VEVENT
DTSTART;VALUE=DATE:20260228
DTEND;VALUE=DATE:20260301
DTSTAMP:20260420T055308
CREATED:20250522T155502Z
LAST-MODIFIED:20250522T155502Z
UID:10002548-1772236800-1772323199@glstage.dreamhosters.com
SUMMARY:Report on Business magazine – March 2026 issue
DESCRIPTION:Report on Business magazine is the trusted source for business leaders and ambitious Canadians making a difference.
URL:https://glstage.dreamhosters.com/opportunity/report-on-business-magazine-march-2026-issue/
LOCATION:National
CATEGORIES:Automotive,Business,Finance - B2C,Luxury Living,Technology - B2B
END:VEVENT
END:VCALENDAR